BEGIN:VCALENDAR
VERSION:2.0
PRODID:-//Des Moines Metro - ECPv6.15.20//NONSGML v1.0//EN
CALSCALE:GREGORIAN
METHOD:PUBLISH
X-WR-CALNAME:Des Moines Metro
X-ORIGINAL-URL:https://dsmlife.org
X-WR-CALDESC:Events for Des Moines Metro
REFRESH-INTERVAL;VALUE=DURATION:PT1H
X-Robots-Tag:noindex
X-PUBLISHED-TTL:PT1H
BEGIN:VTIMEZONE
TZID:UTC
BEGIN:STANDARD
TZOFFSETFROM:+0000
TZOFFSETTO:+0000
TZNAME:UTC
DTSTART:20240101T000000
END:STANDARD
END:VTIMEZONE
BEGIN:VEVENT
DTSTART;TZID=UTC:20251120T170000
DTEND;TZID=UTC:20251120T170000
DTSTAMP:20260424T072804
CREATED:20251108T002641Z
LAST-MODIFIED:20251108T003002Z
UID:1164-1763658000-1763658000@dsmlife.org
SUMMARY:Kids Graphic Novel Club Read - DnDoggos
DESCRIPTION:Event DetailsIf you like to read and talk about graphic novels\, this club is for you. Join us for discussion and activities related to this month’s book\, DnDoggos: Get the Party Started by Scout Underhill. If you need a copy of the book\, please come to the Children’s Desk and check out a book club copy! We have 15 copies available (while supplies last). If all copies are loaned out\, you can still register and find a circulating copy\, use a digital version\, or borrow from another library. \n\n\n\n				\n				\n				\n				\n\n\n			\n		\n		\n\n\n\n\n			\n			\n			\n			\n			\n\n\n				\n				\n				\n				\n\n For ages 8-12.\n\nBook: DnDoggos: Get the Party Started\n\nWest Des Moines and contract city residents: Libby eBook\n\n\n\n\n			\n			\n			\n			\n			\n\n\n				\n				\n				\n				\n\n\n					\n					Read More
URL:https://dsmlife.org/event/kids-graphic-novel-club-read-dndoggos/
LOCATION:West Des Moines Public Library\, 4000 Mills Civic Pkwy West Des Moines\, IA 50265\, West Des Moines\, IA\, 50265\, United States
ATTACH;FMTTYPE=image/jpeg:https://dsmlife.org/wp-content/uploads/2025/11/dog.jpg
END:VEVENT
END:VCALENDAR