BEGIN:VCALENDAR
VERSION:2.0
PRODID:-//Des Moines Metro - ECPv6.15.20//NONSGML v1.0//EN
CALSCALE:GREGORIAN
METHOD:PUBLISH
X-WR-CALNAME:Des Moines Metro
X-ORIGINAL-URL:https://dsmlife.org
X-WR-CALDESC:Events for Des Moines Metro
REFRESH-INTERVAL;VALUE=DURATION:PT1H
X-Robots-Tag:noindex
X-PUBLISHED-TTL:PT1H
BEGIN:VTIMEZONE
TZID:UTC
BEGIN:STANDARD
TZOFFSETFROM:+0000
TZOFFSETTO:+0000
TZNAME:UTC
DTSTART:20250101T000000
END:STANDARD
END:VTIMEZONE
BEGIN:VEVENT
DTSTART;TZID=UTC:20260415T103000
DTEND;TZID=UTC:20260415T113000
DTSTAMP:20260423T233701
CREATED:20251107T225700Z
LAST-MODIFIED:20260411T061451Z
UID:1156-1776249000-1776252600@dsmlife.org
SUMMARY:Family Storytime
DESCRIPTION:Event Details\nJoin us in the Community Room for this class featuring stories\, songs\, and rhymes followed by gross and fine motor play all with an early literacy focus! For ages 2-6 w/adult. \n  \nWest Des Moines Public Library \n4000 Mills Civic Pkwy \nWest Des Moines\, IA 50265 \n  \n  \n(515) 222-3400 \n \n\n\n\n				\n				\n				\n				\n\n\n			\n		\n		\n\n\n\n\n			\n			\n			\n			\n			\n\n\n				\n				\n				\n				\n\n\nContact Info\n Name:  Youth Services Department \n Email:   youthservices@wdm.iowa.gov  \n Phone Number:  (515) 222-3405   \n Presenter:  Amy \n \n\n\n\n\n			\n			\n			\n			\n			\n\n\n				\n				\n				\n				\n\n\n					\n					Read More
URL:https://dsmlife.org/event/family-storytime/
LOCATION:West Des Moines Public Library\, 4000 Mills Civic Pkwy West Des Moines\, IA 50265\, West Des Moines\, IA\, 50265\, United States
CATEGORIES:Children
ATTACH;FMTTYPE=image/png:https://dsmlife.org/wp-content/uploads/2025/11/storytime.png
END:VEVENT
END:VCALENDAR