BEGIN:VCALENDAR
VERSION:2.0
PRODID:-//Des Moines Metro - ECPv6.15.20//NONSGML v1.0//EN
CALSCALE:GREGORIAN
METHOD:PUBLISH
X-ORIGINAL-URL:https://dsmlife.org
X-WR-CALDESC:Events for Des Moines Metro
REFRESH-INTERVAL;VALUE=DURATION:PT1H
X-Robots-Tag:noindex
X-PUBLISHED-TTL:PT1H
BEGIN:VTIMEZONE
TZID:UTC
BEGIN:STANDARD
TZOFFSETFROM:+0000
TZOFFSETTO:+0000
TZNAME:UTC
DTSTART:20240101T000000
END:STANDARD
END:VTIMEZONE
BEGIN:VEVENT
DTSTART;TZID=UTC:20260323T120000
DTEND;TZID=UTC:20260323T233000
DTSTAMP:20260424T055020
CREATED:20260316T002539Z
LAST-MODIFIED:20260316T003011Z
UID:1433-1774267200-1774308600@dsmlife.org
SUMMARY:Trout Release at Terra Lake
DESCRIPTION:Monday\, March 23\, 2026Join the Johnston Parks Department and the Iowa DNR as they release trout into Terra Lake on Monday\, March 23\, beginning at 12:00 p.m.      Join the Johnston Parks Department and the Iowa DNR as they release trout into Terra Lake on Monday\, March 23\, beginning at 12:00 p.m. \n\n\n\n				\n				\n				\n				\n\n\n			\n		\n		\n\n\n\n\n			\n			\n			\n			\n			\n\n\n				\n				\n				\n				\n\n\n \n Those interested in fishing will need an Iowa fishing license and pay the trout fee to fish for or possess trout. The daily limit is 5 trout per licensed angler with a possession limit of 10. Children age 15 or younger can fish for trout with a properly licensed adult\, but they must limit their catch to one daily limit. The child can buy a trout fee\, which will allow them to catch their own limit. \n Date: \nMarch 23\, 2026 \n\n\n Time: \n12:00 PM - 12:30 PM\n \n Location: \n\n View Facility \nTerra Park \n\n\n\n Address: \n6400 Pioneer Parkway\nJohnston\, IA50131 \n\n\n\n\n\n\n\n\n			\n			\n			\n			\n			\n\n\n				\n				\n				\n				\n\n\n					\n					Read More
URL:https://dsmlife.org/event/trout-release-at-terra-lake/
LOCATION:Johnston Terra Park
CATEGORIES:For All
ATTACH;FMTTYPE=image/png:https://dsmlife.org/wp-content/uploads/2026/03/Trout-.png
END:VEVENT
BEGIN:VEVENT
DTSTART;VALUE=DATE:20260301
DTEND;VALUE=DATE:20260401
DTSTAMP:20260424T055020
CREATED:20260224T070811Z
LAST-MODIFIED:20260224T071055Z
UID:1387-1772323200-1775001599@dsmlife.org
SUMMARY:Justin Young Art Exhibit
DESCRIPTION:Event Details  Cityscapes and museum art from "Young at Art" Collection. \n\n\n\n				\n				\n				\n				\n\n\n			\n		\n		\n\n\n\n\n			\n			\n			\n			\n			\n\n\n				\n				\n				\n				\n\nWest Des Moines Public Library \n 4000 Mills Civic Pkwy \nWest Des Moines\, IA 50265 \n (515) 222-3400  \nSee map:  Google Maps  \n\n\n Contact Info\n Name:  Justin Young \n Email:   jusgu@msn.com  \n Presenter:  Justin Young \n\n\n\n\n\n\n			\n			\n			\n			\n			\n\n\n				\n				\n				\n				\n\n\n					\n					Read More
URL:https://dsmlife.org/event/justin-young-art-exhibit/
LOCATION:West Des Moines Public Library\, 4000 Mills Civic Pkwy West Des Moines\, IA 50265\, West Des Moines\, IA\, 50265\, United States
CATEGORIES:For All
ATTACH;FMTTYPE=image/jpeg:https://dsmlife.org/wp-content/uploads/2026/02/Justin-Young-Art.2jpg.jpg
END:VEVENT
BEGIN:VEVENT
DTSTART;TZID=UTC:20251213T080000
DTEND;TZID=UTC:20251213T100000
DTSTAMP:20260424T055020
CREATED:20251129T230403Z
LAST-MODIFIED:20251129T230935Z
UID:1206-1765612800-1765620000@dsmlife.org
SUMMARY:Coffee with a Cop + Breakfast with Santa
DESCRIPTION:Event Details  Saturday\, December 13\, 2025Join the Johnston Police officers for "Breakfast with Santa" and "Coffee with a Cop" at your Johnston Hy-Vee\, from 8:00 to 10:00 a.m.    Join the Johnston Police officers for "Breakfast with Santa" and "Coffee with a Cop" at your Johnston Hy-Vee. Enjoy complimentary donuts\, coffee\, and juice. If you prefer a warm breakfast\, you can purchase one from the Hy-Vee café.\n\n\n\n				\n				\n				\n				\n\n\n			\n		\n		\n\n\n\n\n			\n			\n			\n			\n			\n\n\n				\n				\n				\n				\n\nDate: \n December 13\, 2025\n\n\n Time: \n8:00 AM - 10:00 AM \n\n\n \n \n Location: \n\n \n\nJohnston Hy-Vee\n\n \n\n\n\n Address: \n5750 Merle Hay Road\nJohnston\, IA50131 \n\n\n\n\n\n\n\n\n			\n			\n			\n			\n			\n\n\n				\n				\n				\n				\n\n\n					\n					Read More
URL:https://dsmlife.org/event/coffee-with-a-cop-breakfast-with-santa/
LOCATION:Johnston Town Center\, 6245 Merle Hay Rd. Johnston\, IA 50131\, IA\, 50131\, United States
CATEGORIES:For All
ATTACH;FMTTYPE=image/png:https://dsmlife.org/wp-content/uploads/2025/11/Coffee-with-a-Cop.png
END:VEVENT
BEGIN:VEVENT
DTSTART;VALUE=DATE:20251207
DTEND;VALUE=DATE:20260131
DTSTAMP:20260424T055020
CREATED:20251207T061630Z
LAST-MODIFIED:20251211T043944Z
UID:1216-1765065600-1769817599@dsmlife.org
SUMMARY:Holiday Light Recycling
DESCRIPTION:Event DetailsThis holiday season\, JPL has partnered with Metro Waste Authority to offer a holiday lights drop-off for any old or broken strands of lights you find as you deck the halls. From Nov. 10-Jan. 30\, residents can drop off lights in the collection box located inside the main doors of Johnston Public Library. All lights will then be safely recycled at Metro Waste Authority’s Metro Hazardous Waste Drop-Off. LED\, classic\, plastic\, and glass bulbs as well as net\, icicle\, and battery-powered lights are accepted. Just remember to keep them loose when you drop them in the collection box!     Johnston Public Library \n\n\n\n				\n				\n				\n				\n\n\n			\n		\n		\n\n\n\n\n			\n			\n			\n			\n			\n\n\n				\n				\n				\n				\n\n6700 Merle Hay Rd \n Johnston\, IA 50131 \n (515) 278-5233  \nSee map:  Google Maps  \n\n\n Contact Info\n Email:   info@johnstonlibrary.org  \n Phone Number:  (515) 278-5233   \n\n\n\n\n\n\n			\n			\n			\n			\n			\n\n\n				\n				\n				\n				\n\n\n					\n					Read More
URL:https://dsmlife.org/event/holiday-light-recycling-2/
LOCATION:Johnston Public Library\, 6700 Merle Hay Rd Johnston\, IA 50131\, Johnston\, IA\, 50131\, United States
CATEGORIES:For All
ATTACH;FMTTYPE=image/jpeg:https://dsmlife.org/wp-content/uploads/2025/12/Holiday-Lights.jpg
END:VEVENT
BEGIN:VEVENT
DTSTART;VALUE=DATE:20251110
DTEND;VALUE=DATE:20251111
DTSTAMP:20260424T055020
CREATED:20251106T020151Z
LAST-MODIFIED:20251106T020740Z
UID:1135-1762732800-1762819199@dsmlife.org
SUMMARY:Holiday Light Recycling
DESCRIPTION:Event Details  This holiday season\, JPL has partnered with Metro Waste Authority to offer a holiday lights drop-off for any old or broken strands of lights you find as you deck the halls. From Nov. 10-Jan. 30\, residents can drop off lights in the collection box located inside the main doors of Johnston Public Library. All lights will then be safely recycled at Metro Waste Authority’s Metro Hazardous Waste Drop-Off. LED\, classic\, plastic\, and glass bulbs as well as net\, icicle\, and battery-powered lights are accepted. Just remember to keep them loose when you drop them in the collection box! \n\n\n\n				\n				\n				\n				\n\n\n			\n		\n		\n\n\n\n\n			\n			\n			\n			\n			\n\n\n				\n				\n				\n				\n\nJohnston Public Library \n 6700 Merle Hay Rd \nJohnston\, IA 50131 \n (515) 278-5233  \nSee map:  Google Maps  \n\n\n Contact Info\n Email:   info@johnstonlibrary.org  \n Phone Number:  (515) 278-5233   \n\n\n\n\n\n\n			\n			\n			\n			\n			\n\n\n				\n				\n				\n				\n\n\n					\n					Read More
URL:https://dsmlife.org/event/holiday-light-recycling/
LOCATION:Johnston Public Library\, 6700 Merle Hay Rd Johnston\, IA 50131\, Johnston\, IA\, 50131\, United States
CATEGORIES:For All
ATTACH;FMTTYPE=image/jpeg:https://dsmlife.org/wp-content/uploads/2025/11/Holiday-Lights-Recycling-FB-Library-Market-and-.jpg
END:VEVENT
END:VCALENDAR