BEGIN:VCALENDAR
VERSION:2.0
PRODID:-//Des Moines Metro - ECPv6.15.20//NONSGML v1.0//EN
CALSCALE:GREGORIAN
METHOD:PUBLISH
X-ORIGINAL-URL:https://dsmlife.org
X-WR-CALDESC:Events for Des Moines Metro
REFRESH-INTERVAL;VALUE=DURATION:PT1H
X-Robots-Tag:noindex
X-PUBLISHED-TTL:PT1H
BEGIN:VTIMEZONE
TZID:UTC
BEGIN:STANDARD
TZOFFSETFROM:+0000
TZOFFSETTO:+0000
TZNAME:UTC
DTSTART:20250101T000000
END:STANDARD
END:VTIMEZONE
BEGIN:VEVENT
DTSTART;TZID=UTC:20260105T160000
DTEND;TZID=UTC:20260105T170000
DTSTAMP:20260422T111608
CREATED:20260101T030305Z
LAST-MODIFIED:20260101T030630Z
UID:1265-1767628800-1767632400@dsmlife.org
SUMMARY:Arts & Snacks
DESCRIPTION:Event DetailsWe will have hands-on art projects that will spark learning and discovery for kids in K-5\, as well as a snack! This is a drop-in event and no registration is required. \n\n\n\n				\n				\n				\n				\n\n\n			\n		\n		\n\n\n\n\n			\n			\n			\n			\n			\n\n\n				\n				\n				\n				\n\nDisclaimer(s)\n\n \n \n Accompanying Adults \n\n\nThis program is designed for children and accompanying adults. Please plan to attend and be engaged with your child for this program. Drop offs will not be permitted.\n \n Johnston Public Library \n\n6700 Merle Hay Rd \nJohnston\, IA 50131 \n (515) 278-5233  \nSee map:  Google Maps  \n\n\n Contact Info\n Name:  Sheila Olson \n Email:   olson@johnstonlibrary.com  \n Phone Number:  (515) 278-5233   \n\n\n\n\n\n\n\n\n\n			\n			\n			\n			\n			\n\n\n				\n				\n				\n				\n\n\n					\n					Read More
URL:https://dsmlife.org/event/arts-snacks/
LOCATION:Johnston Public Library\, 6700 Merle Hay Rd Johnston\, IA 50131\, Johnston\, IA\, 50131\, United States
CATEGORIES:Kids
ATTACH;FMTTYPE=image/png:https://dsmlife.org/wp-content/uploads/2026/01/ArtsnSnacks.png
END:VEVENT
BEGIN:VEVENT
DTSTART;TZID=UTC:20260112T160000
DTEND;TZID=UTC:20260112T170000
DTSTAMP:20260422T111608
CREATED:20260108T044912Z
LAST-MODIFIED:20260108T045628Z
UID:1299-1768233600-1768237200@dsmlife.org
SUMMARY:LEGO® Club
DESCRIPTION:Event DetailsLEGO Club provides a fun atmosphere where children can learn\, build and play with the library’s set of LEGOs. Each meeting will have a new theme or challenge. Great for kids in grades K-5. Registration required. \n\n\n\n				\n				\n				\n				\n\n\n			\n		\n		\n\n\n\n\n			\n			\n			\n			\n			\n\n\n				\n				\n				\n				\n\nJohnston Public Library \n 6700 Merle Hay Rd \nJohnston\, IA 50131 \n (515) 278-5233  \nSee map:  Google Maps  \n\n\n Contact Info\n Name:  Sheila Olson \n Email:   olson@johnstonlibrary.org  \n Phone Number:  (515) 278-5233   \n\n\n\n\n\n\n			\n			\n			\n			\n			\n\n\n				\n				\n				\n				\n\n\n					\n					Read More
URL:https://dsmlife.org/event/lego-club/
LOCATION:Johnston Public Library\, 6700 Merle Hay Rd Johnston\, IA 50131\, Johnston\, IA\, 50131\, United States
CATEGORIES:Kids
ATTACH;FMTTYPE=image/jpeg:https://dsmlife.org/wp-content/uploads/2026/01/lego.jpg
END:VEVENT
END:VCALENDAR