BEGIN:VCALENDAR
VERSION:2.0
PRODID:-//Des Moines Metro - ECPv6.15.20//NONSGML v1.0//EN
CALSCALE:GREGORIAN
METHOD:PUBLISH
X-ORIGINAL-URL:https://dsmlife.org
X-WR-CALDESC:Events for Des Moines Metro
REFRESH-INTERVAL;VALUE=DURATION:PT1H
X-Robots-Tag:noindex
X-PUBLISHED-TTL:PT1H
BEGIN:VTIMEZONE
TZID:UTC
BEGIN:STANDARD
TZOFFSETFROM:+0000
TZOFFSETTO:+0000
TZNAME:UTC
DTSTART:20250101T000000
END:STANDARD
END:VTIMEZONE
BEGIN:VEVENT
DTSTART;TZID=UTC:20260202T113000
DTEND;TZID=UTC:20260202T123000
DTSTAMP:20260422T095116
CREATED:20260124T063003Z
LAST-MODIFIED:20260124T063534Z
UID:1325-1770031800-1770035400@dsmlife.org
SUMMARY:Kids Chocolate Factory
DESCRIPTION:Event DetailsBe a chocolatier and make your own chocolate bar!   Stop by the library and make your own chocolate bar in our No School Day Chocolate Factory.  Disclaimer(s)   Drop-In Event      This is a drop-in program—no registration required. Feel free to come and go anytime between the listed start and end times. \n\n\n\n				\n				\n				\n				\n\n\n			\n		\n		\n\n\n\n\n			\n			\n			\n			\n			\n\n\n				\n				\n				\n				\n\nAccompanying Adults - Ages 9 and under  \n \n\nChildren ages 9 and under must be accompanied by an adult for this program. Drop offs will not be permitted.\n \n Johnston Public Library\n6700 Merle Hay Rd \nJohnston\, IA 50131 \n (515) 278-5233  \nSee map:  Google Maps  \n\n\n Contact Info\n Name:  Sheila Olson \n Email:   olson@johnstonlibrary.org  \n Phone Number:  (515) 278-5233   \n\n \n\n\n\n\n\n\n\n\n\n			\n			\n			\n			\n			\n\n\n				\n				\n				\n				\n\n\n					\n					Read More
URL:https://dsmlife.org/event/kids-chocolate-factory/
LOCATION:Johnston Public Library\, 6700 Merle Hay Rd Johnston\, IA 50131\, Johnston\, IA\, 50131\, United States
CATEGORIES:Kids
ATTACH;FMTTYPE=image/jpeg:https://dsmlife.org/wp-content/uploads/2026/01/Kids-Chocolate-Factory.jpg
END:VEVENT
BEGIN:VEVENT
DTSTART;TZID=UTC:20260215T130000
DTEND;TZID=UTC:20260215T160000
DTSTAMP:20260422T095116
CREATED:20260205T065850Z
LAST-MODIFIED:20260205T070430Z
UID:1352-1771160400-1771171200@dsmlife.org
SUMMARY:Can You Find It?
DESCRIPTION:Event Details    Join us for a fun Scavenger Hunt throughout the Youth Services Area. Win a prize after finding all 10 themed items. For all ages. \n\n\n\n				\n				\n				\n				\n\n\n			\n		\n		\n\n\n\n\n			\n			\n			\n			\n			\n\n\n				\n				\n				\n				\n\nJohnston Public Library   \n 6700 Merle Hay Rd \nJohnston\, IA 50131 \n (515) 278-5233  \nSee map:  Google Maps  \n\n\n\n\n\n\n\n\n			\n			\n			\n			\n			\n\n\n				\n				\n				\n				\n\n\n					\n					Read More
URL:https://dsmlife.org/event/can-you-find-it/
LOCATION:Johnston Public Library\, 6700 Merle Hay Rd Johnston\, IA 50131\, Johnston\, IA\, 50131\, United States
CATEGORIES:Kids
ATTACH;FMTTYPE=image/png:https://dsmlife.org/wp-content/uploads/2026/02/Find-It.png
END:VEVENT
END:VCALENDAR